BEGIN:VCALENDAR
VERSION:2.0
PRODID:-//Sitla - ECPv5.4.0.2//NONSGML v1.0//EN
CALSCALE:GREGORIAN
METHOD:PUBLISH
X-WR-CALNAME:Sitla
X-ORIGINAL-URL:https://sitla.org
X-WR-CALDESC:Events for Sitla
BEGIN:VTIMEZONE
TZID:UTC
BEGIN:STANDARD
TZOFFSETFROM:+0000
TZOFFSETTO:+0000
TZNAME:UTC
DTSTART:20190101T000000
END:STANDARD
END:VTIMEZONE
BEGIN:VEVENT
DTSTART;TZID=UTC:20191113T180000
DTEND;TZID=UTC:20191113T210000
DTSTAMP:20260421T155159
CREATED:20190910T022757Z
LAST-MODIFIED:20190910T022757Z
UID:496-1573668000-1573678800@sitla.org
SUMMARY:Third General meeting of SITLA
DESCRIPTION:Third General Meeting of SITLA Membership \nDate: Wednesday\, November 13\, 2019 \nTime:  6:15 PM \nLocation:  Bocelli’s Restaurant \nSponsor for this meeting: To be Confirmed
URL:https://sitla.org/event/third-general-meeting-of-sitla/
LOCATION:Bocelli’s Restaurant
END:VEVENT
END:VCALENDAR