BEGIN:VCALENDAR
VERSION:2.0
PRODID:-//Sitla - ECPv5.4.0.2//NONSGML v1.0//EN
CALSCALE:GREGORIAN
METHOD:PUBLISH
X-WR-CALNAME:Sitla
X-ORIGINAL-URL:https://sitla.org
X-WR-CALDESC:Events for Sitla
BEGIN:VTIMEZONE
TZID:UTC
BEGIN:STANDARD
TZOFFSETFROM:+0000
TZOFFSETTO:+0000
TZNAME:UTC
DTSTART:20200101T000000
END:STANDARD
END:VTIMEZONE
BEGIN:VEVENT
DTSTART;TZID=UTC:20200407T181500
DTEND;TZID=UTC:20200407T210000
DTSTAMP:20260421T094804
CREATED:20200209T034840Z
LAST-MODIFIED:20200209T034840Z
UID:532-1586283300-1586293200@sitla.org
SUMMARY:Sixth General Meeting of SITLA membership
DESCRIPTION: Meeting of SITLA Membership \nDate:  Tuesday   April 7\,  2020 \nTime:  6:15 PM \nLocation:  Bocelli’s Restaurant \nSponsor for this meeting: TBA \nFuture Meeting Dates-Save these dates: \nMay 13\, 2020 \nand \nJune 10\, 2020.
URL:https://sitla.org/event/sixth-general-meeting-of-sitla-membership/
LOCATION:Bocelli’s Restaurant
ORGANIZER;CN="SITLA":MAILTO:718abogado@gmail.com
END:VEVENT
END:VCALENDAR