BEGIN:VCALENDAR
VERSION:2.0
PRODID:-//Sitla - ECPv5.4.0.2//NONSGML v1.0//EN
CALSCALE:GREGORIAN
METHOD:PUBLISH
X-WR-CALNAME:Sitla
X-ORIGINAL-URL:https://sitla.org
X-WR-CALDESC:Events for Sitla
BEGIN:VTIMEZONE
TZID:UTC
BEGIN:STANDARD
TZOFFSETFROM:+0000
TZOFFSETTO:+0000
TZNAME:UTC
DTSTART:20200101T000000
END:STANDARD
END:VTIMEZONE
BEGIN:VEVENT
DTSTART;TZID=UTC:20201014T183000
DTEND;TZID=UTC:20201014T200000
DTSTAMP:20260419T183324
CREATED:20201004T050302Z
LAST-MODIFIED:20201004T050302Z
UID:556-1602700200-1602705600@sitla.org
SUMMARY:SITLA Virtual Meeting via Zoom
DESCRIPTION:SITLA Virtual Meeting via Zoom \n1st Regular meeting of 2020-2021 \nAgenda provided in previously sent email. \nAll members who have paid their annual dues for the 2019-2020 year shall be considered Current Active members. You are eligible to participate in this meeting if you are paid dues last year. \nPlease provide Full name/home address  (for home delivery)   / current cell number (for home delivery)\, current email (to receive zoom link)  and a home delivered dinner from Bocelli to following emails:  718abogado@gmail.com and copy to Jcanepa@josephgcanepapllc.com
URL:https://sitla.org/event/sitla-virtual-meeting-via-zoom/
ORGANIZER;CN="SITLA":MAILTO:718abogado@gmail.com
END:VEVENT
END:VCALENDAR