BEGIN:VCALENDAR
VERSION:2.0
PRODID:-//Sitla - ECPv5.4.0.2//NONSGML v1.0//EN
CALSCALE:GREGORIAN
METHOD:PUBLISH
X-WR-CALNAME:Sitla
X-ORIGINAL-URL:https://sitla.org
X-WR-CALDESC:Events for Sitla
BEGIN:VTIMEZONE
TZID:Asia/Karachi
BEGIN:STANDARD
TZOFFSETFROM:+0500
TZOFFSETTO:+0500
TZNAME:PKT
DTSTART:20210101T000000
END:STANDARD
END:VTIMEZONE
BEGIN:VEVENT
DTSTART;TZID=Asia/Karachi:20210113T183000
DTEND;TZID=Asia/Karachi:20210113T200000
DTSTAMP:20260419T141140
CREATED:20210113T183045Z
LAST-MODIFIED:20210108T000605Z
UID:589-1610562600-1610568000@sitla.org
SUMMARY:SITLA VIRTUAL Meeting at 6:30 PM
DESCRIPTION:Topic: SITLA’s Zoom Meeting \nTime:   January  13\, 2021  06:30 PM    Eastern Standard Time (US and Canada) \nPlease RSVP with your name\, email address\, home address\, and cell phone number (unless you provided the same information last month) to 718abogado@gmail.com
URL:https://sitla.org/event/sitla-virtual-meeting-at-630-pm-2/
LOCATION:Virtual Meeting\, Zoom\, NY Metropolitan Area\, NY\, United States
ORGANIZER;CN="SITLA":MAILTO:718abogado@gmail.com
END:VEVENT
END:VCALENDAR