BEGIN:VCALENDAR
VERSION:2.0
PRODID:-//Sitla - ECPv5.4.0.2//NONSGML v1.0//EN
CALSCALE:GREGORIAN
METHOD:PUBLISH
X-WR-CALNAME:Sitla
X-ORIGINAL-URL:https://sitla.org
X-WR-CALDESC:Events for Sitla
BEGIN:VTIMEZONE
TZID:UTC
BEGIN:STANDARD
TZOFFSETFROM:+0000
TZOFFSETTO:+0000
TZNAME:UTC
DTSTART:20200101T000000
END:STANDARD
END:VTIMEZONE
BEGIN:VEVENT
DTSTART;TZID=UTC:20200129T183000
DTEND;TZID=UTC:20200129T210000
DTSTAMP:20260421T142625
CREATED:20191013T014616Z
LAST-MODIFIED:20200129T204513Z
UID:501-1580322600-1580331600@sitla.org
SUMMARY:SITLA 57th Anniversary Gala
DESCRIPTION:SITLA 57th Anniversary Gala-Save the Date-\nVenue is the Vanderbilt- \nOur annual SITLA anniversary Gala has become a tradition among so many. Join us this year for our most spectacular event of the year and see what it means to be a part of our joyous professional tradition with highest level of excellence and camaraderie.
URL:https://sitla.org/event/sitla-57th-anniversary-gala/
LOCATION:Vanderbuilt\, 300 Father Capodanno Blvd\, Staten Island\, NY\, 10305\, United States
ATTACH;FMTTYPE=image/jpeg:https://sitla.org/wp-content/uploads/2019/05/SITLA-LOGO.jpg
ORGANIZER;CN="SITLA":MAILTO:718abogado@gmail.com
END:VEVENT
END:VCALENDAR