BEGIN:VCALENDAR
VERSION:2.0
PRODID:-//Sitla - ECPv5.4.0.2//NONSGML v1.0//EN
CALSCALE:GREGORIAN
METHOD:PUBLISH
X-WR-CALNAME:Sitla
X-ORIGINAL-URL:https://sitla.org
X-WR-CALDESC:Events for Sitla
BEGIN:VTIMEZONE
TZID:UTC
BEGIN:STANDARD
TZOFFSETFROM:+0000
TZOFFSETTO:+0000
TZNAME:UTC
DTSTART:20190101T000000
END:STANDARD
END:VTIMEZONE
BEGIN:VEVENT
DTSTART;TZID=UTC:20190405T123000
DTEND;TZID=UTC:20190405T143000
DTSTAMP:20260421T230755
CREATED:20190401T211816Z
LAST-MODIFIED:20190401T213059Z
UID:221-1554467400-1554474600@sitla.org
SUMMARY:NYS and OCA CLE Language Access
DESCRIPTION:All SITLA members are encouraged to pre-register for the NYS and OCA\nCLE Language Access. PREREGISTRATION WILL HELP THE EVENT TO BE EXECUTED\nFLAWLESSLY.\nWhen:  Apr 5\, 2019\nWhere:   26 Central Ave\, Staten Island\, NY 10301\, USA\n1 credit Ethics and Professionalism\, 1 credit Diversity\nCentral jury room 12:30 – 2:30 P.M. \nDownload Event Flyer
URL:https://sitla.org/event/nys-and-oca-cle-language-access/
LOCATION:26 Central Avenue Staten Island New York\, 26 Central Avenue\, Staten Island\, NY\, 10301\, United States
END:VEVENT
END:VCALENDAR