BEGIN:VCALENDAR
VERSION:2.0
PRODID:-//Sitla - ECPv5.4.0.2//NONSGML v1.0//EN
CALSCALE:GREGORIAN
METHOD:PUBLISH
X-WR-CALNAME:Sitla
X-ORIGINAL-URL:https://sitla.org
X-WR-CALDESC:Events for Sitla
BEGIN:VTIMEZONE
TZID:UTC
BEGIN:STANDARD
TZOFFSETFROM:+0000
TZOFFSETTO:+0000
TZNAME:UTC
DTSTART:20200101T000000
END:STANDARD
END:VTIMEZONE
BEGIN:VEVENT
DTSTART;TZID=UTC:20201013T173000
DTEND;TZID=UTC:20201013T183000
DTSTAMP:20260419T185056
CREATED:20201004T044530Z
LAST-MODIFIED:20201004T044530Z
UID:553-1602610200-1602613800@sitla.org
SUMMARY:Induction Ceremony
DESCRIPTION:Induction ceremony of Officers and Board of Directors-the Honorable Justice Lindy Marazzo will preside. \nOctober 13\, 2020 at 5:30 PM on the back steps of 18 Richmond Terrace SINY \n 
URL:https://sitla.org/event/induction-ceremony/
LOCATION:18 Richmond Terrace SINY\, Staten Island\, NY\, 10301\, United States
ORGANIZER;CN="SITLA":MAILTO:718abogado@gmail.com
END:VEVENT
END:VCALENDAR