BEGIN:VCALENDAR
VERSION:2.0
PRODID:-//Sitla - ECPv5.4.0.2//NONSGML v1.0//EN
CALSCALE:GREGORIAN
METHOD:PUBLISH
X-WR-CALNAME:Sitla
X-ORIGINAL-URL:https://sitla.org
X-WR-CALDESC:Events for Sitla
BEGIN:VTIMEZONE
TZID:UTC
BEGIN:STANDARD
TZOFFSETFROM:+0000
TZOFFSETTO:+0000
TZNAME:UTC
DTSTART:20190101T000000
END:STANDARD
END:VTIMEZONE
BEGIN:VEVENT
DTSTART;TZID=UTC:20190410T180000
DTEND;TZID=UTC:20190410T200000
DTSTAMP:20260421T215207
CREATED:20190401T212320Z
LAST-MODIFIED:20190401T213225Z
UID:224-1554919200-1554926400@sitla.org
SUMMARY:General Meeting of SITLA Membership
DESCRIPTION:General Meeting of SITLA Membership\nDate: Wednesday\, April 10\, 2019\nTime:  6:00 PM\nLocation:  Bocelli’s Restaurant\nSponsor for this meeting: To be determined and announced:\nFuture Meeting Dates-Save these dates:\nMay 15\, 2019 and\nJune 12\, 2019.
URL:https://sitla.org/event/general-meeting-of-sitla-membership/
LOCATION:Bocelli’s Restaurant
END:VEVENT
END:VCALENDAR