BEGIN:VCALENDAR
VERSION:2.0
PRODID:-//Sitla - ECPv5.4.0.2//NONSGML v1.0//EN
CALSCALE:GREGORIAN
METHOD:PUBLISH
X-WR-CALNAME:Sitla
X-ORIGINAL-URL:https://sitla.org
X-WR-CALDESC:Events for Sitla
BEGIN:VTIMEZONE
TZID:UTC
BEGIN:STANDARD
TZOFFSETFROM:+0000
TZOFFSETTO:+0000
TZNAME:UTC
DTSTART:20200101T000000
END:STANDARD
END:VTIMEZONE
BEGIN:VEVENT
DTSTART;TZID=UTC:20200212T181500
DTEND;TZID=UTC:20200212T210000
DTSTAMP:20260421T124326
CREATED:20200209T034212Z
LAST-MODIFIED:20200209T034212Z
UID:518-1581531300-1581541200@sitla.org
SUMMARY:General Fourth Meeting of SITLA Membership
DESCRIPTION: Meeting of SITLA Membership \nDate: Wednesday\, February 12\,  2020 \nTime:  6:15 PM \nLocation:  Bocelli’s Restaurant \nSponsor for this meeting: Empire State Bank \n  \nFuture Meeting Dates-Save these dates: \nMarch 11\,  2020; \nApril 7\, 2020; \nMay 13\, 2020  and\nJune 10\, 2020.
URL:https://sitla.org/event/general-meeting-of-sitla-membership-2/
LOCATION:Bocelli’s Restaurant
ORGANIZER;CN="SITLA":MAILTO:718abogado@gmail.com
END:VEVENT
END:VCALENDAR