BEGIN:VCALENDAR
VERSION:2.0
PRODID:-//Sitla - ECPv5.4.0.2//NONSGML v1.0//EN
CALSCALE:GREGORIAN
METHOD:PUBLISH
X-WR-CALNAME:Sitla
X-ORIGINAL-URL:https://sitla.org
X-WR-CALDESC:Events for Sitla
BEGIN:VTIMEZONE
TZID:UTC
BEGIN:STANDARD
TZOFFSETFROM:+0000
TZOFFSETTO:+0000
TZNAME:UTC
DTSTART:20200101T000000
END:STANDARD
END:VTIMEZONE
BEGIN:VEVENT
DTSTART;TZID=UTC:20200311T181500
DTEND;TZID=UTC:20200311T210000
DTSTAMP:20260421T111907
CREATED:20200209T033640Z
LAST-MODIFIED:20200209T033804Z
UID:526-1583950500-1583960400@sitla.org
SUMMARY:Fifth General meeting of SITLA membership
DESCRIPTION:Meeting of SITLA Membership \nDate: Wednesday\,  March 11\,  2020 \nTime:  6:15 PM \nLocation:  Bocelli’s Restaurant \nSponsor for this meeting: TBA \nFuture Meeting Dates-Save these dates: \nTuesday April 7\,  2020; \nMay 13\,  2020  and\nJune 10\,  2020. \n 
URL:https://sitla.org/event/fifth-general-meeting-of-sitla-membership/
LOCATION:Bocelli’s Restaurant
ORGANIZER;CN="SITLA":MAILTO:718abogado@gmail.com
END:VEVENT
END:VCALENDAR