BEGIN:VCALENDAR
VERSION:2.0
PRODID:-//Sitla - ECPv5.4.0.2//NONSGML v1.0//EN
CALSCALE:GREGORIAN
METHOD:PUBLISH
X-WR-CALNAME:Sitla
X-ORIGINAL-URL:https://sitla.org
X-WR-CALDESC:Events for Sitla
BEGIN:VTIMEZONE
TZID:UTC
BEGIN:STANDARD
TZOFFSETFROM:+0000
TZOFFSETTO:+0000
TZNAME:UTC
DTSTART:20190101T000000
END:STANDARD
END:VTIMEZONE
BEGIN:VEVENT
DTSTART;TZID=UTC:20190612T180000
DTEND;TZID=UTC:20190612T210000
DTSTAMP:20260421T202157
CREATED:20190608T225029Z
LAST-MODIFIED:20190608T225029Z
UID:474-1560362400-1560373200@sitla.org
SUMMARY:andreaklglaw@gmail.com
DESCRIPTION:  \n  \nRSVP by \nJune 10th to andreaklglaw@gmail.com
URL:https://sitla.org/event/andreaklglawgmail-com/
LOCATION:Bocelli’s Restaurant
ORGANIZER;CN="SITLA":MAILTO:718abogado@gmail.com
END:VEVENT
END:VCALENDAR